BEGIN:VCALENDAR
VERSION:2.0
PRODID:-//hacksw/handcal//NONSGML v1.0//EN
CALSCALE:GREGORIAN
BEGIN:VEVENT
DTEND:20221008T143000Z
UID: 69e7f736a39cf
DTSTAMP:20260421T171622Z
LOCATION:Centennial Hall
DESCRIPTION:Fall Visit Day is for prospective students and their families&nbsp\;learn more about what Augustana College has to offer.\n\n→ Signup is now available.\n\n\n	\n		\n			\n			Schedule\n			\n			&nbsp\;\n		\n	\n	\n		\n			9:30 a.m.\n			Check-in at Centennial Hall (3703 7th Ave. Rock Island)\n		\n		\n			10-10:30 a.m.\n			Welcome and Admissions presentation\n		\n		\n			10:30-11:45 a.m.\n			Campus tour\n		\n		\n			11:45 a.m.-1&nbsp\;p.m.\n			Academic and Resources Fair and Lunch\n		\n		\n			1:15-1:45 p.m.\n			Informational Sessions featuring CORE\, Financial Aid\, Athletics\, Fine Arts and Student Involvement Opportunities\n		\n		\n			1:15-3 p.m.\n			Wrap up reception with admissions and student organization fair\n		\n	\n\n\nAll lots will be available for visitor parking. Lots E or G are recommended.\n
URL;VALUE=URI:https://www.augustana.edu/about-us/events/2022/fall-visit-day
SUMMARY:Fall Visit Day
DTSTART:20221008T143000Z
END:VEVENT
END:VCALENDAR
