BEGIN:VCALENDAR
VERSION:2.0
PRODID:-//hacksw/handcal//NONSGML v1.0//EN
CALSCALE:GREGORIAN
BEGIN:VEVENT
DTEND:20211023T180000Z
UID: 69e7f6d4f0d9b
DTSTAMP:20260421T171444Z
LOCATION:Quad
DESCRIPTION:The Augustana Vikings will play football vs. Carroll University.\n\nThe game will be live-streamed.\n\nOther home games:\n\nNov. 6 vs. Elmhurst University\, 1 p.m.\n\nComplete schedule\n
URL;VALUE=URI:https://www.augustana.edu/about-us/events/2021/football-vs-millikin-carroll
SUMMARY:Football vs. Carroll University
DTSTART:20211023T180000Z
END:VEVENT
END:VCALENDAR
