BEGIN:VCALENDAR
VERSION:2.0
PRODID:-//hacksw/handcal//NONSGML v1.0//EN
CALSCALE:GREGORIAN
BEGIN:VEVENT
DTEND:20211002T180000Z
UID: 69e7f6f30b5b1
DTSTAMP:20260421T171515Z
LOCATION:Quad
DESCRIPTION:The Augustana Vikings will play football vs. North Park University\n\nThe game will be live-streamed.\n\nOther home games:\n\nOct. 16 vs. Washington University\, 1 p.m.\nOct. 23 vs. Carroll University\, 1 p.m.\nNov. 6 vs. Elmhurst University\, 1 p.m.\n\nComplete schedule\n
URL;VALUE=URI:https://www.augustana.edu/about-us/events/2021/football-vs-north-park-university
SUMMARY:Football vs. North Park University
DTSTART:20211002T180000Z
END:VEVENT
END:VCALENDAR
