BEGIN:VCALENDAR
VERSION:2.0
PRODID:-//hacksw/handcal//NONSGML v1.0//EN
CALSCALE:GREGORIAN
BEGIN:VEVENT
DTEND:20210722T183000Z
UID: 69e7f7452332a
DTSTAMP:20260421T171637Z
LOCATION:Hanson Hall of Science
DESCRIPTION:Prospective students who would like to learn more about psychology and neuroscience&nbsp\;are invited to an open house hosted by faculty.\n\n(If you also would like to include a tour and information session with the Office of Admissions\,&nbsp\;register for a campus visit.)\n\nAcademic open houses&nbsp\;in a variety of subjects are scheduled throughout the summer.\n
URL;VALUE=URI:https://www.augustana.edu/about-us/events/2021/open-house-psychology-neuroscience
SUMMARY:Open house: psychology and neuroscience 
DTSTART:20210722T183000Z
END:VEVENT
END:VCALENDAR
