BEGIN:VCALENDAR
VERSION:2.0
PRODID:-//hacksw/handcal//NONSGML v1.0//EN
CALSCALE:GREGORIAN
BEGIN:VEVENT
DTEND:20210723T170000Z
UID: 69e80d934f601
DTSTAMP:20260421T185147Z
LOCATION:Hanson Hall of Science
DESCRIPTION:Prospective students who would like to learn more about the study of physics and engineering physics&nbsp\;are invited to an open house hosted by faculty\,\n\n(If you also would like to include a tour and information session with the Office of Admissions\, register for a campus visit.)\n\nAcademic open houses in a variety of subjects are scheduled throughout the summer.\n
URL;VALUE=URI:https://www.augustana.edu/about-us/events/2021/open-house-physics
SUMMARY:Open house: physics and engineering physics
DTSTART:20210723T170000Z
END:VEVENT
END:VCALENDAR
