BEGIN:VCALENDAR
VERSION:2.0
PRODID:-//hacksw/handcal//NONSGML v1.0//EN
CALSCALE:GREGORIAN
BEGIN:VEVENT
DTEND:20210714T153000Z
UID: 69e80c5c423ce
DTSTAMP:20260421T184636Z
LOCATION:Carlsson Evald Hall
DESCRIPTION:Prospective students who would like to learn more about the study of accounting and data analytics are invited to an open house hosted by faculty\,\n\n(If you also would like to include a tour and information session with the Office of Admissions\, register for a campus visit.)\n\nAcademic open houses in a variety of subjects are scheduled throughout the summer.\n
URL;VALUE=URI:https://www.augustana.edu/about-us/events/2021/open-house-accounting-and-data-analytics
SUMMARY:Open house: accounting and data analytics
DTSTART:20210714T153000Z
END:VEVENT
END:VCALENDAR
