BEGIN:VCALENDAR
VERSION:2.0
PRODID:-//hacksw/handcal//NONSGML v1.0//EN
CALSCALE:GREGORIAN
BEGIN:VEVENT
DTEND:20170104T223000Z
UID: 69e4e94f9f1da
DTSTAMP:20260419T094015Z
LOCATION:Empire Burgers & Brew
DESCRIPTION:Alumni and friends of the college are invited to a reception before the Augustana v. North Central men's basketball game in Naperville.\n\nThe gathering will be at the Empire Burger Bar\, 48 West Chicago Ave.\, Naperville\, Ill. (Map)\n\nThere will be appetizers and a cash bar.\n\n•&nbsp\;RSVPs are requested&nbsp\;by Jan. 2\n\nThe game is at 7 p.m.\n
URL;VALUE=URI:https://www.augustana.edu/about-us/events/2016/pre-game-reception
SUMMARY:Pre-game reception
DTSTART:20170104T223000Z
END:VEVENT
END:VCALENDAR
