BEGIN:VCALENDAR
VERSION:2.0
PRODID:-//hacksw/handcal//NONSGML v1.0//EN
CALSCALE:GREGORIAN
BEGIN:VEVENT
DTEND:20210522T000000Z
UID: 69e80c7c03065
DTSTAMP:20260421T184708Z
LOCATION:Quad City Arts
DESCRIPTION:Peter Xiao\, professor of art\,&nbsp\;will show&nbsp\;a body of recent paintings and mixed media work called "INuNdATIONS"&nbsp\; May 7-June 18. A reception for the artist is from 7-9 p.m. today.\n\nXiao's work was completed in the last two years through the pandemic\, and it comments on global and national realities through art historical parody\, satire and direct observation. He paints on unstretched canvas and other surfaces\, goes beyond the rectangular confinement and plays with the gallery and floor space.\n\nHis co-exhibitor is Loan Marcu from Romania\, whose theme is immigration.\n
URL;VALUE=URI:https://www.augustana.edu/about-us/events/2021/art-reception-inundations-peter-xiao
SUMMARY:Art reception\, "INuNdATIONS" by Peter Xiao
DTSTART:20210522T000000Z
END:VEVENT
END:VCALENDAR
