BEGIN:VCALENDAR
VERSION:2.0
PRODID:-//hacksw/handcal//NONSGML v1.0//EN
CALSCALE:GREGORIAN
BEGIN:VEVENT
DTEND:20210507T003000Z
UID: 69e80d3fb7d9a
DTSTAMP:20260421T185023Z
LOCATION:Brunner Theatre Center
DESCRIPTION:Augustana College will present "One Flea Spare\," a dark comedy set in&nbsp\;plague-ravaged London in 1665.\n\nShow times are 7:30 p.m. May 6\, 7 and 8\, and 1:30 p.m. May 9.\n\nSynopsis: "A&nbsp\;wealthy aristocrat and his invalid wife remain under quarantine inside their lavish home. In the middle of the night\, two intruders — a sailor and a mysterious girl — break in and start demanding food. In the ensuing days\, all behave according to their accustomed roles. Yet as time drags on\, the boundaries that defined life are rewritten and abandoned: The master and the servant switch\, gender roles turn somersaults\, and a stately marriage is nullified by passion."&nbsp\;(StageAgent)\n
URL;VALUE=URI:https://www.augustana.edu/about-us/events/2021/one-flea-spare
SUMMARY:One Flea Spare
DTSTART:20210507T003000Z
END:VEVENT
END:VCALENDAR
