BEGIN:VCALENDAR
VERSION:2.0
PRODID:-//hacksw/handcal//NONSGML v1.0//EN
CALSCALE:GREGORIAN
BEGIN:VEVENT
DTEND:20220522T150000Z
UID: 69e80d38f32db
DTSTAMP:20260421T185016Z
LOCATION:Centennial Hall
DESCRIPTION:The Baccalaureate Service includes readings and prayers from Christian\, Jewish\, Muslim and other spiritual and secular traditions.\n\nThe Rev. Melinda Pupillo\, campus chaplain and&nbsp\;director of spiritual development\, will speak.\n\nGraduates are invited to wear their caps and gowns and sit with their families and friends.&nbsp\;\n\nEffective May 9:&nbsp\;Everyone — vaccinated or not — is required to mask indoors in all public spaces\, including hallways and when visiting campus offices.\n
URL;VALUE=URI:https://www.augustana.edu/about-us/events/2022/baccalaureate-service
SUMMARY:Baccalaureate Service
DTSTART:20220522T150000Z
END:VEVENT
END:VCALENDAR
