BEGIN:VCALENDAR
VERSION:2.0
PRODID:-//hacksw/handcal//NONSGML v1.0//EN
CALSCALE:GREGORIAN
BEGIN:VEVENT
DTEND:20210430T000000Z
UID: 69e74f4248261
DTSTAMP:20260421T051946Z
LOCATION:
DESCRIPTION:Camp Kesem at Augustana College invites the community to join them for their virtual Make the Magic.&nbsp\;\n\nCamp Kesem's mission aims to support children through and beyond their parent's cancer. Donations are encouraged. Tickets are $15 and VIP tickets are $25. Perks of the VIP ticket include an exclusive goodie bag mailed directly to your home address and an invitation to their pre-event Campy Hour.\n
URL;VALUE=URI:https://www.augustana.edu/about-us/events/2021/camp-kesem-make-magic
SUMMARY:Camp Kesem - Make the Magic
DTSTART:20210430T000000Z
END:VEVENT
END:VCALENDAR
