BEGIN:VCALENDAR
VERSION:2.0
PRODID:-//hacksw/handcal//NONSGML v1.0//EN
CALSCALE:GREGORIAN
BEGIN:VEVENT
DTEND:20210327T180000Z
UID: 69e80c7ba50df
DTSTAMP:20260421T184707Z
LOCATION:Quad
DESCRIPTION:The Vikings will take on&nbsp\;Illinois Wesleyan in a home football contest.\n\nA limited number of home spectators will be allowed under the recently modified CCIW spectator policy. Each student-athlete may invite up to four guests. Visiting team spectators are not allowed.\n\nThe game will be livestreamed.\n\n&nbsp\;\n
URL;VALUE=URI:https://www.augustana.edu/about-us/events/2021/football-vs-illinois-wesleyan
SUMMARY:Football vs. Illinois Wesleyan
DTSTART:20210327T180000Z
END:VEVENT
END:VCALENDAR
