BEGIN:VCALENDAR
VERSION:2.0
PRODID:-//hacksw/handcal//NONSGML v1.0//EN
CALSCALE:GREGORIAN
BEGIN:VEVENT
DTEND:20210410T180000Z
UID: 69e80c5c1f658
DTSTAMP:20260421T184636Z
LOCATION:PepsiCo Recreation Center
DESCRIPTION:The community is invited to participate in the annual St. Baldrick's fundraiser for cancer research from 1-4 p.m.\n\nTo participate\, volunteers shave their&nbsp\;heads for pledges&nbsp\;or donate.\n\nThe St. Baldrick's Foundation is a volunteer-powered charity that funds more in childhood cancer research grants than any organization except the U.S. government.\n
URL;VALUE=URI:https://www.augustana.edu/about-us/events/2021/st-baldricks-fundraiser
SUMMARY:St. Baldrick's fundraiser
DTSTART:20210410T180000Z
END:VEVENT
END:VCALENDAR
