BEGIN:VCALENDAR
VERSION:2.0
PRODID:-//hacksw/handcal//NONSGML v1.0//EN
CALSCALE:GREGORIAN
BEGIN:VEVENT
DTEND:20210303T003000Z
UID: 69e81e1a342c1
DTSTAMP:20260421T200218Z
LOCATION:
DESCRIPTION:Dr. Jane Simonsen\, professor of history\, will present "Louise Burtis and Matilda Hilbring: Biracial Women in Early Quad Cities History" via Zoom.&nbsp\;\n\nHer talk is sponsored by the&nbsp\;Davenport Public Library.\n\nThis talk will explore race\, property\, and power in the antebellum Quad Cities by looking at the lives of two biracial women\, Louise Burtis and Matilda Hilbring.\n\nBurtis\, whose mother was Meskwaki\, attempted to secure a place for herself in 1830-50s Iowa through her land claims and a series of strategic marriages.\n\nHilbring was a Black woman\, possibly born into indentured servitude\, who lived in the household of Rock Island Mayor Bailey Davenport and married a white man after giving birth to Davenport’s son.&nbsp\;\n
URL;VALUE=URI:https://www.augustana.edu/about-us/events/2021/dr-jane-simonsen-biracial-women-quad-cities-history
SUMMARY:Dr. Jane Simonsen: Biracial Women in Quad Cities History
DTSTART:20210303T003000Z
END:VEVENT
END:VCALENDAR
