BEGIN:VCALENDAR
VERSION:2.0
PRODID:-//hacksw/handcal//NONSGML v1.0//EN
CALSCALE:GREGORIAN
BEGIN:VEVENT
DTEND:20210213T200000Z
UID: 69e81e13845e7
DTSTAMP:20260421T200211Z
LOCATION:
DESCRIPTION:The Vikings\,&nbsp\;6-2 on the season\, will host the CCIW Championships. Spectators will not be permitted\, but the event will be livestreamed.\n
URL;VALUE=URI:https://www.augustana.edu/about-us/events/2021/cciw-wrestling-championships
SUMMARY:CCIW Wrestling Championships
DTSTART:20210213T200000Z
END:VEVENT
END:VCALENDAR
