BEGIN:VCALENDAR
VERSION:2.0
PRODID:-//hacksw/handcal//NONSGML v1.0//EN
CALSCALE:GREGORIAN
BEGIN:VEVENT
DTEND:20210218T020000Z
UID: 69e7526981424
DTSTAMP:20260421T053313Z
LOCATION:
DESCRIPTION:Camp Kesem will have its monthly general body meeting for its members virtually on Zoom.\n
URL;VALUE=URI:https://www.augustana.edu/about-us/events/2021/camp-kesem-general-body-meeting
SUMMARY:Camp Kesem general body meeting
DTSTART:20210218T020000Z
END:VEVENT
END:VCALENDAR
