BEGIN:VCALENDAR
VERSION:2.0
PRODID:-//hacksw/handcal//NONSGML v1.0//EN
CALSCALE:GREGORIAN
BEGIN:VEVENT
DTEND:20190306T180000Z
UID: 69e9297b9de36
DTSTAMP:20260422T150307Z
LOCATION:St. Ambrose Wellness and Recreation Center
DESCRIPTION:ProFair is presented by Augustana College and St. Ambrose University\, connecting students and alumni to prospective employers (both local and national)\, for job and internship opportunities.\n\nProFair at St. Ambrose from noon-3 p.m. today is followed by Interview Day at Augustana.\n\nBuses to take Augustana students to St. Ambrose will depart from Centennial Circle at&nbsp\;11:30 a.m.\, 12:30 p.m. and 1:30 p.m.&nbsp\;\n\nBuses will return from the Rogalski Center at noon\, 1 p.m\, 2 p.m. and 3:15 p.m.\n\nStudent registration is not required. However\, upon entering the Rogalski Center\, students will be asked to sign in.&nbsp\;\n
URL;VALUE=URI:https://www.augustana.edu/about-us/events/2019/profair
SUMMARY:ProFair
DTSTART:20190306T180000Z
END:VEVENT
END:VCALENDAR
