BEGIN:VCALENDAR
VERSION:2.0
PRODID:-//hacksw/handcal//NONSGML v1.0//EN
CALSCALE:GREGORIAN
BEGIN:VEVENT
DTEND:20210205T003000Z
UID: 69e81e20f0df8
DTSTAMP:20260421T200224Z
LOCATION:
DESCRIPTION:Seven Augustana students will be featured in the&nbsp\;Figge Art Museum's&nbsp\;annual College Invitational through June 6.\n\nAfter registering for the virtual opening reception\, guests will receive an email two hours before the program begins\, which will include a Zoom link to join the online event.\n\nThe museum is at 225 West 2nd St.\, Davenport. The exhibit will be shown in the Figge's second-floor Katz Gallery.\n\nArt professors from Augustana\, Black Hawk College\, Clinton Community College\, Knox College\, Monmouth College\, St. Ambrose University\, Scott Community College and Western Illinois University selected works from their schools for inclusion.\n\nThis year's featured College Invitational artists from Augustana College are:\n\nJordan Delinski (acrylic)\nKeely Gallagher (Sharpie\, pen\, and marker on canvas)\nRachel Gibson (willow branches)\nLindsey Johnson (graphite on paper)\nHailey Mendell (acrylic on canvas)\nCharles Nawara (glazed ceramic)\nRachel Oliver (clothing\, unprimed canvas\, wire\, acrylic paint\, cardboard\, and found object)\n\nCash prizes will be awarded to first-\, second-\, and third-place recipients.\n\nRegular museum hours are 10 a.m.-5 p.m. Tuesday-Saturdays\; 10 a.m.-9 p.m. on Thursdays\; and noon-5 p.m. on Sundays. Admission is free with Augustana ID.\n
URL;VALUE=URI:https://www.augustana.edu/about-us/events/2021/college-invitational-opening-reception
SUMMARY:College Invitational opening reception
DTSTART:20210205T003000Z
END:VEVENT
END:VCALENDAR
