BEGIN:VCALENDAR
VERSION:2.0
PRODID:-//hacksw/handcal//NONSGML v1.0//EN
CALSCALE:GREGORIAN
BEGIN:VEVENT
DTEND:20210123T200000Z
UID: 69e81db690a31
DTSTAMP:20260421T200038Z
LOCATION:Carver P.E. Center
DESCRIPTION:The Augustana Vikings will play their first home basketball game of the year vs. the Wheaton Thunder.&nbsp\;\n\nDue to COVID-19 precautions\, no spectators will be allowed. However\, all home games will be livestreamed.\n\nWatch the game\n
URL;VALUE=URI:https://www.augustana.edu/about-us/events/2021/womens-basketball-vs-wheaton
SUMMARY:Women's basketball vs. Wheaton
DTSTART:20210123T200000Z
END:VEVENT
END:VCALENDAR
