BEGIN:VCALENDAR
VERSION:2.0
PRODID:-//hacksw/handcal//NONSGML v1.0//EN
CALSCALE:GREGORIAN
BEGIN:VEVENT
DTEND:20210118T140000Z
UID: 69ea5d35e100b
DTSTAMP:20260423T125605Z
LOCATION:
DESCRIPTION:The Office of Student Life&nbsp\;will host the Viking Gnome Hunt today through Friday.\n\nStudent organizations will have the chance to decorate a Viking gnome. Gnomes&nbsp\;will be hidden across campus in preparation for the Viking Gnome Hunt. Students who find a hidden gnome can turn it into the OSL office for prizes.\n\nAdditional details to come.\n
URL;VALUE=URI:https://www.augustana.edu/about-us/events/2021/viking-gnome-hunt
SUMMARY:Viking Gnome Hunt
DTSTART:20210118T140000Z
END:VEVENT
END:VCALENDAR
