BEGIN:VCALENDAR
VERSION:2.0
PRODID:-//hacksw/handcal//NONSGML v1.0//EN
CALSCALE:GREGORIAN
BEGIN:VEVENT
DTEND:20180125T233000Z
UID: 69e4d9491d7d0
DTSTAMP:20260419T083153Z
LOCATION:Holland & Knight
DESCRIPTION:Alumni\, parents and friends of the college are invited to celebrate the new year at the 13th annual Winter in the Windy City.\n\nHors d o'euvres and beverages will be served. The celebration will run through 8 p.m. Please RSVP by Jan. 22.\n\nThis event is hosted by Scott Petersen\, Class of 1968.\n
URL;VALUE=URI:https://www.augustana.edu/about-us/events/2016/winter-windy-city
SUMMARY:Winter in the Windy City
DTSTART:20180125T233000Z
END:VEVENT
END:VCALENDAR
