BEGIN:VCALENDAR
VERSION:2.0
PRODID:-//hacksw/handcal//NONSGML v1.0//EN
CALSCALE:GREGORIAN
BEGIN:VEVENT
DTEND:20210517T150000Z
UID: 69ecf2a4093b5
DTSTAMP:20260425T115812Z
LOCATION:Brunner Theatre Center
DESCRIPTION:The Augustana Bookstore will hold book buyback from 10 a.m.-4:30 p.m. for used textbooks\, no matter where they originally were purchased. Buyback will continue through May 20.\n\n\nBring your ID.\n
URL;VALUE=URI:https://www.augustana.edu/about-us/events/2021/book-buyback
SUMMARY:Book buyback
DTSTART:20210517T150000Z
END:VEVENT
END:VCALENDAR
