BEGIN:VCALENDAR
VERSION:2.0
PRODID:-//hacksw/handcal//NONSGML v1.0//EN
CALSCALE:GREGORIAN
BEGIN:VEVENT
DTEND:20220924T140000Z
UID: 69e81db6185dc
DTSTAMP:20260421T200038Z
LOCATION:
DESCRIPTION:Family Weekend lets families see what it's like to be a Viking!&nbsp\;\n\nThe weekend will include a president's reception\, welcome and conversation with faculty leaders\, presentations on CORE\, the Upper Mississippi Center\, the EDGE Center and the TRIO program.\n\nHave lunch in the Gerber Center and see the men's soccer take on North Park or a football game vs. Wheaton College. The day will conclude with a show in Centennial Hall.\n\nOn Sunday\, have lunch at the Gerber Center and attend an outdoor worship service.\n\n→ See complete schedule\n
URL;VALUE=URI:https://www.augustana.edu/about-us/events/2022/family-weekend
SUMMARY:Family Weekend
DTSTART:20220924T140000Z
END:VEVENT
END:VCALENDAR
