BEGIN:VCALENDAR
VERSION:2.0
PRODID:-//hacksw/handcal//NONSGML v1.0//EN
CALSCALE:GREGORIAN
BEGIN:VEVENT
DTEND:20170205T220000Z
UID: 69e92946894b5
DTSTAMP:20260422T150214Z
LOCATION:Denkmann Memorial Building
DESCRIPTION:The Augustana Horn Choir will perform\, led by instructor Lee&nbsp\;Kessinger and guest student conductor Caitlin Thom\, a senior from Bettendorf\, Iowa.\n\nHorn Choir members include&nbsp\;\n\nCassandra Dohrman\, a sophomore from New London\, Wis.\nChristopher Gillespie\, a sophomore from South Elgin\, Ill.\nEliot Kmiec\, a first-year student from Cary\, Ill.\nAlina Lundholm\, a junior from Palatine\, Ill.\nSara Lyon\, a sophomore from Mount Vernon\, Iowa\nBrianna Meyer\, a senior from Hartland\, Wis.\nErik Whitcomb\, a senior from Rock Island\, Ill.\n\nProgram\n\nNocturno\,Op. 7&nbsp\;Franz Strauss 1822-1905\n\nMorceau De Concert C.&nbsp\;(Saint-Saens 1835-1921)\nAlina Lundhom\, solo\nCharles Schmidt\, piano\n\nBipperies\, No. 8&nbsp\;(Lowell E. Shaw 1930-)\nBrianna Meyer and Alina Lundholm\, duet\n\nBrief intermission\n\nThe Augustana Horn Choir\nCaitlin Thom\, guest student conductor\n\nHoliday Fanfares\, IV&nbsp\;(Harold Schiffman 1928-)\n\nQuartet For Horns (On Motives by R. Wagner)&nbsp\;\nArr. Max Pottag 1876-1970\n\nGemsveilchen Walzer (Anton Wunderer 1850-1906)\n\nTripperies\, No. 1&nbsp\;(Lowell E. Shaw 1930-)\n
URL;VALUE=URI:https://www.augustana.edu/about-us/events/2016/horn-choir-recital
SUMMARY:Horn Choir Recital 
DTSTART:20170205T220000Z
END:VEVENT
END:VCALENDAR
