BEGIN:VCALENDAR
VERSION:2.0
PRODID:-//hacksw/handcal//NONSGML v1.0//EN
CALSCALE:GREGORIAN
BEGIN:VEVENT
DTEND:20201224T230000Z
UID: 69e81e2090620
DTSTAMP:20260421T200224Z
LOCATION:
DESCRIPTION:The 2019 performance of Christmas at Augustana will be rebroadcast at 5 p.m. Dec. 24 on WQAD-TV and again at 7 a.m. Dec. 25 on WQAD2.\n
URL;VALUE=URI:https://www.augustana.edu/about-us/events/2020/christmas-augustana-rebroadcast
SUMMARY:Christmas at Augustana rebroadcast
DTSTART:20201224T230000Z
END:VEVENT
END:VCALENDAR
