BEGIN:VCALENDAR
VERSION:2.0
PRODID:-//hacksw/handcal//NONSGML v1.0//EN
CALSCALE:GREGORIAN
BEGIN:VEVENT
DTEND:20201208T140000Z
UID: 69e81e1a15b1c
DTSTAMP:20260421T200218Z
LOCATION:Quad City International Airport
DESCRIPTION:Select specimens from Augustana's&nbsp\;Fryxell Geology Museum&nbsp\; are on display through Jan. 4 at the Quad City International Airport.&nbsp\;\n\nThe Quad City Arts exhibit pairs landscape paintings and&nbsp\;botanical watercolors with fossils\, minerals and rocks illustrating color\, texture\, symmetry\, relief and design in nature.&nbsp\;(Read more)\n
URL;VALUE=URI:https://www.augustana.edu/about-us/events/2020/fryxell-geology-museum-display
SUMMARY:Fryxell Geology Museum display
DTSTART:20201208T140000Z
END:VEVENT
END:VCALENDAR
