BEGIN:VCALENDAR
VERSION:2.0
PRODID:-//hacksw/handcal//NONSGML v1.0//EN
CALSCALE:GREGORIAN
BEGIN:VEVENT
DTEND:20201213T120000Z
UID: 69e820901a67d
DTSTAMP:20260421T201248Z
LOCATION:
DESCRIPTION:The annual Sankta Lucia Festival at Augustana College will premiere on video beginning at 6 a.m.&nbsp\;today.\n\nThe online program will be available on the&nbsp\;YouTube channel&nbsp\;of the&nbsp\;Swenson Swedish Immigration Research Center at Augustana.\n\nScandinavian Christmas music will be led by Swedish language students\, recorded in Ascension Chapel.\n
URL;VALUE=URI:https://www.augustana.edu/about-us/events/2020/sankta-lucia-festival
SUMMARY:Sankta Lucia Festival
DTSTART:20201213T120000Z
END:VEVENT
END:VCALENDAR
