BEGIN:VCALENDAR
VERSION:2.0
PRODID:-//hacksw/handcal//NONSGML v1.0//EN
CALSCALE:GREGORIAN
BEGIN:VEVENT
DTEND:20201210T013000Z
UID: 69e823127f708
DTSTAMP:20260421T202330Z
LOCATION:
DESCRIPTION:A 50-year holiday tradition&nbsp\;bringing together Augustana students and Augustana Lutheran Church in Andover\, Ill.\, will continue online this year.\n\n"Joy of Christmas Past" will premiere on YouTube&nbsp\;at 7:30 p.m. Dec&nbsp\;9.\n\nThe two Augustana communities will present a celebration featuring Christmas hymns\, the reading of the Christmas story in English\, Spanish and Swedish\, and a Christmas sermon delivered in 1975 by Conrad Bergendoff\, Augustana's president from 1935-1962.\n\nThe Rev. Reed Pedersen\, pastor of Augustana Lutheran\, produced the broadcast\, which will include&nbsp\; hymns performed by Augustana College organist Christopher Nelson\, complete with lyrics provided for singing along at home.\n\nStudents will read the Gospel of Luke in English and Spanish\, with a recording of the Swedish translation read by Dr. Bergendoff.\n\n(Read more)\n
URL;VALUE=URI:https://www.augustana.edu/about-us/events/2020/joy-christmas-0
SUMMARY:Joy of Christmas
DTSTART:20201210T013000Z
END:VEVENT
END:VCALENDAR
