BEGIN:VCALENDAR
VERSION:2.0
PRODID:-//hacksw/handcal//NONSGML v1.0//EN
CALSCALE:GREGORIAN
BEGIN:VEVENT
DTEND:20211101T230000Z
UID: 69e82319585e4
DTSTAMP:20260421T202337Z
LOCATION:The Gerber Center for Student Life
DESCRIPTION:LatinX Unidos will celebrate Dia de los Muertos\, or Day of the Dead\, an annual Mexican holiday in which ancestors are traditionally thought to come back to visit the living members of their families.\n\nThe public is welcome. The event will run from 6-8 p.m. with food\, drinks and activities: watch the film "Coco" or decorate a sugar skull.\n
URL;VALUE=URI:https://www.augustana.edu/about-us/events/2021/dia-de-los-muertos-celebration
SUMMARY:Día de Los Muertos (Day of the Dead)
DTSTART:20211101T230000Z
END:VEVENT
END:VCALENDAR
