BEGIN:VCALENDAR
VERSION:2.0
PRODID:-//hacksw/handcal//NONSGML v1.0//EN
CALSCALE:GREGORIAN
BEGIN:VEVENT
DTEND:20201011T150000Z
UID: 69e835f2a5f9d
DTSTAMP:20260421T214402Z
LOCATION:
DESCRIPTION:Retiring Campus Chaplain Richard Priggie '74 will preside over a special worship service at 10 a.m.&nbsp\;on the Augustana YouTube Channel.\n\n• Related: Chaplain Richard Priggie Reflects\n
URL;VALUE=URI:https://www.augustana.edu/about-us/events/2020/chaplain-richard-priggie-worship-service
SUMMARY:Chaplain Richard Priggie worship service
DTSTART:20201011T150000Z
END:VEVENT
END:VCALENDAR
