BEGIN:VCALENDAR
VERSION:2.0
PRODID:-//hacksw/handcal//NONSGML v1.0//EN
CALSCALE:GREGORIAN
BEGIN:VEVENT
DTEND:20200920T150000Z
UID: 69e822dfddecd
DTSTAMP:20260421T202239Z
LOCATION:
DESCRIPTION:The Rev. Melinda Pupillo will lead a&nbsp\;virtual&nbsp\;service of song\, scripture readings\, prayers and words of hope by current students and&nbsp\;faculty.\n\nShe will begin her work as Augustana chaplain and director of spiritual life in January.\n\nRev. Pupillo will preach from Holden Village\, a remote Lutheran retreat center in the North Cascade Mountains\, where she is finishing her call as village pastor. Holden is known for offering a Prayer of Good Courage to all who go forth from that place.\n
URL;VALUE=URI:https://www.augustana.edu/about-us/events/2020/good-courage-worship-service
SUMMARY:'Good Courage' worship service
DTSTART:20200920T150000Z
END:VEVENT
END:VCALENDAR
