BEGIN:VCALENDAR
VERSION:2.0
PRODID:-//hacksw/handcal//NONSGML v1.0//EN
CALSCALE:GREGORIAN
BEGIN:VEVENT
DTEND:20200915T213000Z
UID: 69e823130a1b5
DTSTAMP:20260421T202331Z
LOCATION:
DESCRIPTION:Augustana students\, faculty and alumni will participate in Welcoming Week 2020\, a national celebration of communities that promote cross-cultural understanding and embrace newcomers.\n\nThe Augustana group&nbsp\;will discuss their experiences with World Relief Quad Cities\, a refugee resettlement agency in Moline\, Ill.&nbsp\;Students will learn about volunteer and internship opportunities to work with the refugee community in the Quad Cities.\n\nSpeakers will include Dr. Chris Strunk\,\,associate professor of geography\; Dr. Fatima Sattar\, assistant professor of sociology and&nbsp\;anthropology\; &nbsp\;Xong Sony Yang\, director of the Office of International Student and Scholar Services\; and Jen Wood\, Grace Fitzpatrick&nbsp\;and Leah Cox from World Relief.\n\nWelcoming America\, a&nbsp\;non-profit\, non-partisan organization\, sponsors Welcoming Week.\n\nWatch the recording here (Note: You must be logged in with your Augustana account to view the recording.).\n
URL;VALUE=URI:https://www.augustana.edu/about-us/events/2020/welcoming-week
SUMMARY:Welcoming Week
DTSTART:20200915T213000Z
END:VEVENT
END:VCALENDAR
