BEGIN:VCALENDAR
VERSION:2.0
PRODID:-//hacksw/handcal//NONSGML v1.0//EN
CALSCALE:GREGORIAN
BEGIN:VEVENT
DTEND:20200526T220000Z
UID: 69e822edc9fd2
DTSTAMP:20260421T202253Z
LOCATION:Brunner Theatre Center
DESCRIPTION:Brett Dale will perform a Curbside Concert\, sponsored by the&nbsp\;River Music Experience&nbsp\;and Russell Construction.\n\nMembers of the community are invited to come out to the Anderson Outdoor Pavilion (on the south side of the Brunner&nbsp\;Theatre Center).&nbsp\;\n\nAll those attending should bring a lawn chair or blanket and plan to practice&nbsp\;social distancing.\n\nSince 2003\, Dale has performed and traveled with the Chicago-based Lonnie Brooks Blues Band\, and locally with The Candymakers.\n
URL;VALUE=URI:https://www.augustana.edu/about-us/events/2020/curbside-concert-brett-dale
SUMMARY:Curbside Concert: Brett Dale
DTSTART:20200526T220000Z
END:VEVENT
END:VCALENDAR
