BEGIN:VCALENDAR
VERSION:2.0
PRODID:-//hacksw/handcal//NONSGML v1.0//EN
CALSCALE:GREGORIAN
BEGIN:VEVENT
DTEND:20200508T000000Z
UID: 69e7adda8eede
DTSTAMP:20260421T120322Z
LOCATION:
DESCRIPTION:The Office of Student Inclusion and Diversity will host a Loteria Night. Round 1 is at 7 p.m.\, round 2 at 7:30 and round 3 at 8.\n\nThere can be up to 20 players per round (the first 20 people to log in each round will play).&nbsp\;Once you enter the game\, your Loteria card will be emailed to you. The game will begin 5-7 minutes after the start of each round.\n\nRegistration is not required but if you want to guarantee your spot\, complete this form.\n\nOtherwise\, use this Zoom link on Thursday\, to participate.&nbsp\;\n\nThere will be two&nbsp\;winners per round and you can only win once.&nbsp\;\n&nbsp\;\n
URL;VALUE=URI:https://www.augustana.edu/about-us/events/2020/loteria-night-0
SUMMARY:Loteria Night
DTSTART:20200508T000000Z
END:VEVENT
END:VCALENDAR
