BEGIN:VCALENDAR
VERSION:2.0
PRODID:-//hacksw/handcal//NONSGML v1.0//EN
CALSCALE:GREGORIAN
BEGIN:VEVENT
DTEND:20200507T180000Z
UID: 69e7addc158b6
DTSTAMP:20260421T120324Z
LOCATION:
DESCRIPTION:President Bahls will hold a virtual open office hour.\n\nFour&nbsp\;15-minute appointments via Google Hangouts will be&nbsp\;filled on first-come\, first-served basis.&nbsp\;\n\nEmail Mary Koski to make an appointment:\n&nbsp\;\n
URL;VALUE=URI:https://www.augustana.edu/about-us/events/2020/presidents-open-office-hour
SUMMARY:President's open office hour
DTSTART:20200507T180000Z
END:VEVENT
END:VCALENDAR
