BEGIN:VCALENDAR
VERSION:2.0
PRODID:-//hacksw/handcal//NONSGML v1.0//EN
CALSCALE:GREGORIAN
BEGIN:VEVENT
DTEND:20200313T000000Z
UID: 69e83e3a7ee0d
DTSTAMP:20260421T221922Z
LOCATION:Hanson Hall of Science
DESCRIPTION:Criminologist Dr. Kathryn Branch will present "Dating Violence: Student Perceptions and Implications for the College Campus Community."\n\nDr. Branch is a professor and chair of the criminology and criminal justice department of the University of Tampa. She received her Ph.D. in criminology from the University of South Florida.\n\nHer research examines ways in which dating violence and sexual violence affect college populations and campus communities. Her research is featured in Feminist Criminology\, The Journal of Interpersonal Violence\, Violence &amp\; Victims\, and Violence Against Women.\n\nHer talk is sponsored by the&nbsp\;Stanley Erikson Lectureship in Public Affairs and Political Science&nbsp\;at Augustana.\n
URL;VALUE=URI:https://www.augustana.edu/about-us/events/2020/dating-violence-student-perceptions-and-implications-college-campus-community
SUMMARY:Dating Violence: Student Perceptions and Implications for the College Campus Community
DTSTART:20200313T000000Z
END:VEVENT
END:VCALENDAR
