BEGIN:VCALENDAR
VERSION:2.0
PRODID:-//hacksw/handcal//NONSGML v1.0//EN
CALSCALE:GREGORIAN
BEGIN:VEVENT
DTEND:20200312T000000Z
UID: 69e83e94cad50
DTSTAMP:20260421T222052Z
LOCATION:Carver P.E. Center
DESCRIPTION:The men's volleyball team will play against Greenville University at home.\n
URL;VALUE=URI:https://www.augustana.edu/about-us/events/2020/mens-volleyball-vs-greenville
SUMMARY:Men's volleyball vs. Greenville
DTSTART:20200312T000000Z
END:VEVENT
END:VCALENDAR
