BEGIN:VCALENDAR
VERSION:2.0
PRODID:-//hacksw/handcal//NONSGML v1.0//EN
CALSCALE:GREGORIAN
BEGIN:VEVENT
DTEND:20200314T230000Z
UID: 69e74f6bb7694
DTSTAMP:20260421T052027Z
LOCATION:Quad City Botanical Center
DESCRIPTION:The campus community is invited to a game night supporting Camp Kesem from 6-9 p.m. Enjoy a night of trivia\, bingo\, raffles\, and more.\n\nAll proceeds go towards providing a free summer camp for children whose parents are affected by cancer. Those interested in attending are encouraged to sign up for tables of up to 8 people. Partial tables are still accepted.&nbsp\;\n
URL;VALUE=URI:https://www.augustana.edu/about-us/events/2020/camp-kesem-game-night
SUMMARY:Camp Kesem game night
DTSTART:20200314T230000Z
END:VEVENT
END:VCALENDAR
