BEGIN:VCALENDAR
VERSION:2.0
PRODID:-//hacksw/handcal//NONSGML v1.0//EN
CALSCALE:GREGORIAN
BEGIN:VEVENT
DTEND:20180505T210000Z
UID: 69e941b6cdeb4
DTSTAMP:20260422T164630Z
LOCATION:Lower Quad
DESCRIPTION:The fourth annual SloughFest is a free fun-filled day of diverse music\, events&nbsp\;and community involvement.\n\nMost events will take place in the lower Quad. (See "Sloughfest brings in big festival feel")\n\nSchedule\n\nMadd Stage:\n4:00 p.m.&nbsp\;&nbsp\;Saving Artax\n5:30 p.m.&nbsp\; 7th Hour\n7:15 p.m.&nbsp\;&nbsp\;AYOO\n\nMain Stage:&nbsp\;\n4:50 p.m.&nbsp\;&nbsp\;EA$TSIDE AVE\n6:30 p.m.&nbsp\;Friday Pilots Club\n7:45 p.m.&nbsp\;&nbsp\;ABIR\n8:45 p.m.&nbsp\;Win and&nbsp\;Woo\n10:00 p.m.&nbsp\;&nbsp\;Quinnn XCII\n
URL;VALUE=URI:https://www.augustana.edu/about-us/events/2016/sloughfest
SUMMARY:SloughFest
DTSTART:20180505T210000Z
END:VEVENT
END:VCALENDAR
