BEGIN:VCALENDAR
VERSION:2.0
PRODID:-//hacksw/handcal//NONSGML v1.0//EN
CALSCALE:GREGORIAN
BEGIN:VEVENT
DTEND:20200227T010000Z
UID: 69e83e400f12f
DTSTAMP:20260421T221928Z
LOCATION:Carver P.E. Center
DESCRIPTION:The Augustana men's volleyball team will take on North Park University.\n\nNow it its second year of play\, the Augustana team earned its first conference win in program history last Saturday\, defeating Millikin in straight sets at Carver Center. Coach Mike Ducey's Vikings improved to 8-6 on the season and 1-1 in the conference.\n
URL;VALUE=URI:https://www.augustana.edu/about-us/events/2020/mens-volleyball-home-feb26
SUMMARY:Men's volleyball vs. North Park
DTSTART:20200227T010000Z
END:VEVENT
END:VCALENDAR
