BEGIN:VCALENDAR
VERSION:2.0
PRODID:-//hacksw/handcal//NONSGML v1.0//EN
CALSCALE:GREGORIAN
BEGIN:VEVENT
DTEND:20200307T150000Z
UID: 69e83b0c0d86f
DTSTAMP:20260421T220548Z
LOCATION:The Gerber Center for Student Life
DESCRIPTION:High school students are invited to a special Viking Visit&nbsp\;with expanded programming\, an academic session\, campus tours and lunch.\n\nThis visit is designed as a first visit experience. Admitted seniors who have not been to campus yet are encouraged to come.\n\nExplore campus and learn about your next steps in the admissions process. Meet a professor and learn about an academic program. Get an introduction to student clubs and organizations and campus resources. Learn about the many ways CORE (Careers\, Opportunities\, Research and Exploration) can help guide your Augustana experience.\n
URL;VALUE=URI:https://www.augustana.edu/about-us/events/2020/viking-visit-day
SUMMARY:Viking Visit day
DTSTART:20200307T150000Z
END:VEVENT
END:VCALENDAR
