BEGIN:VCALENDAR
VERSION:2.0
PRODID:-//hacksw/handcal//NONSGML v1.0//EN
CALSCALE:GREGORIAN
BEGIN:VEVENT
DTEND:20200228T010000Z
UID: 69e83e50aa039
DTSTAMP:20260421T221944Z
LOCATION:Olin Center for Educational Technology
DESCRIPTION:"Divines"&nbsp\;is the second of the films in the&nbsp\;annual Francophone Film Festival&nbsp\;at Augustana.\n\nIn this 2016&nbsp\;French drama\, a&nbsp\;street teenager from a dysfunctional family from a banlieue (suburb) in Paris comes across a young dancer who turns her life upside down. (IMDB)&nbsp\;Rated TV-MA/18+.\n\nDirector Houda Benyamina won the Caméra d'Or at the Cannes Film Festival. The film also was an official selection of the Toronto International Film Festival in the Discovery section.&nbsp\;\n\nFrench-language films will be presented every Thursday Feb. 20-March 19. Films are free and the public is welcome.\n\n&nbsp\;\n
URL;VALUE=URI:https://www.augustana.edu/about-us/events/2020/francophone-film-festival-divines
SUMMARY:Francophone Film Festival: 'Divines'
DTSTART:20200228T010000Z
END:VEVENT
END:VCALENDAR
