BEGIN:VCALENDAR
VERSION:2.0
PRODID:-//hacksw/handcal//NONSGML v1.0//EN
CALSCALE:GREGORIAN
BEGIN:VEVENT
DTEND:20200221T010000Z
UID: 69e83e40157e4
DTSTAMP:20260421T221928Z
LOCATION:Denkmann Memorial Building
DESCRIPTION:Dr. Aaron Bobrow-Strain\, a professor of politics at Whitman College in Washington\, will talk about his book\,&nbsp\;"The Death and Life of Aida Hernandez: A Border Story."\n\nThe book is based on a true story and interviews with the main character and others. The author writes that his book “occupies a space between journalism and ethnography\, with a dash of oral history and biography.”\n\n• Read more about the book and its author\n
URL;VALUE=URI:https://www.augustana.edu/about-us/events/2020/death-and-life-aida-hernandez-border-story
SUMMARY:The Death and Life of Aida Hernandez: A Border Story
DTSTART:20200221T010000Z
END:VEVENT
END:VCALENDAR
