BEGIN:VCALENDAR
VERSION:2.0
PRODID:-//hacksw/handcal//NONSGML v1.0//EN
CALSCALE:GREGORIAN
BEGIN:VEVENT
DTEND:20200212T020000Z
UID: 69e8387e2802a
DTSTAMP:20260421T215454Z
LOCATION:Denkmann Memorial Building
DESCRIPTION:The Real Group\, a vocal group from Sweden&nbsp\;called the "masters of modern a cappella"&nbsp\;will perform.\n\n(This event is sold out.)\n\nThe Real Group&nbsp\;has recorded 17 albums and appeared more than 2\,000 times worldwide.&nbsp\;The group was formed in 1984 when its members were students at the Royal College of Music in Stockholm. (Read more)\n
URL;VALUE=URI:https://www.augustana.edu/about-us/events/2020/real-group
SUMMARY:The Real Group
DTSTART:20200212T020000Z
END:VEVENT
END:VCALENDAR
