BEGIN:VCALENDAR
VERSION:2.0
PRODID:-//hacksw/handcal//NONSGML v1.0//EN
CALSCALE:GREGORIAN
BEGIN:VEVENT
DTEND:20200122T220000Z
UID: 69e83b0c89570
DTSTAMP:20260421T220548Z
LOCATION:The Gerber Center for Student Life
DESCRIPTION:Former and current Augustana faculty will hold a panel discussion on the current tensions between the U.S. and Iran.\n\nIn the liberal arts tradition\, panelists will share insights and ideas on the history and context of relations between the two countries.\n\nPanelists include:\n\n• Dr. Cyrus Zargar\, professor of philosophy at the University of Central Florida and former&nbsp\;associate professor of religion at Augustana.\n\n• Dr.&nbsp\;Breanna Nickel\, teaching fellow in religion&nbsp\;at Augustana.\n\n• Dr.&nbsp\;David A. Schwartz\, assistant professor of communication studies&nbsp\;at Augustana.\n\n• Dr.&nbsp\;Xiaowen Zhang\,&nbsp\;associate professor of political science at Augustana.\n&nbsp\;\n
URL;VALUE=URI:https://www.augustana.edu/about-us/events/2020/perspectives-us-and-iran
SUMMARY:Perspectives on the U.S. and Iran
DTSTART:20200122T220000Z
END:VEVENT
END:VCALENDAR
