BEGIN:VCALENDAR
VERSION:2.0
PRODID:-//hacksw/handcal//NONSGML v1.0//EN
CALSCALE:GREGORIAN
BEGIN:VEVENT
DTEND:20200126T200000Z
UID: 69e83ea37791d
DTSTAMP:20260421T222107Z
LOCATION:German American Heritage Center
DESCRIPTION:Dr. Jacob Bancks\, composer and Augustana associate professor of music\, will present "Return into Your Prison Now! The Long Battle for Beethoven's 'Fidelio.'"\n\nBeethoven completed only one opera\, and Dr. Bancks will explain&nbsp\;the work's&nbsp\;long and complicated history of composition.\n
URL;VALUE=URI:https://www.augustana.edu/about-us/events/2020/long-battle-beethovens-fidelio
SUMMARY:The Long Battle for Beethoven's 'Fidelio' 
DTSTART:20200126T200000Z
END:VEVENT
END:VCALENDAR
