BEGIN:VCALENDAR
VERSION:2.0
PRODID:-//hacksw/handcal//NONSGML v1.0//EN
CALSCALE:GREGORIAN
BEGIN:VEVENT
DTEND:20200222T013000Z
UID: 69e83ea379799
DTSTAMP:20260421T222107Z
LOCATION:
DESCRIPTION:Randall Hall will perform at&nbsp\;the annual&nbsp\;Shockingly Modern Saxophone Festival.\n\nDr. Hall\, Augustana professor of music\,&nbsp\;is the founder and artistic director of the festival.&nbsp\;\n\nHe has recorded on several labels and his compositions are published on Reed Music. In addition to saxophone\, Dr. Hall also teaches improvisation\, music theory and&nbsp\;electronic music.\n
URL;VALUE=URI:https://www.augustana.edu/about-us/events/2020/shockingly-modern-saxophone-festival-hall
SUMMARY:Shockingly Modern Saxophone Festival: Randall Hall
DTSTART:20200222T013000Z
END:VEVENT
END:VCALENDAR
