BEGIN:VCALENDAR
VERSION:2.0
PRODID:-//hacksw/handcal//NONSGML v1.0//EN
CALSCALE:GREGORIAN
BEGIN:VEVENT
DTEND:20200222T190000Z
UID: 69e83e5695392
DTSTAMP:20260421T221950Z
LOCATION:Thorson-Lucken Field
DESCRIPTION:The Augustana men's lacrosse team will open its home season again Aurora University.\n
URL;VALUE=URI:https://www.augustana.edu/about-us/events/2020/mens-lacrosse-home-opener
SUMMARY:Men's lacrosse home opener
DTSTART:20200222T190000Z
END:VEVENT
END:VCALENDAR
