BEGIN:VCALENDAR
VERSION:2.0
PRODID:-//hacksw/handcal//NONSGML v1.0//EN
CALSCALE:GREGORIAN
BEGIN:VEVENT
DTEND:20200208T230000Z
UID: 69e83e50a8c80
DTSTAMP:20260421T221944Z
LOCATION:Carver P.E. Center
DESCRIPTION:The Augustana men's volleyball team will open the season at home vs.&nbsp\;St. Ambrose University.\n\nThe Vikings will begin a homestand that will see them take on the Milwaukee School of Engineering Feb. 14\, Carhage Feb. 18\, Millikin Feb. 22\, and Norht Park Feb. 26.&nbsp\;\n
URL;VALUE=URI:https://www.augustana.edu/about-us/events/2020/mens-volleyball-home-opener
SUMMARY:Men's volleyball home opener
DTSTART:20200208T230000Z
END:VEVENT
END:VCALENDAR
