BEGIN:VCALENDAR
VERSION:2.0
PRODID:-//hacksw/handcal//NONSGML v1.0//EN
CALSCALE:GREGORIAN
BEGIN:VEVENT
DTEND:20211204T170000Z
UID: 69e83b24e11c8
DTSTAMP:20260421T220612Z
LOCATION:St. Ambrose Wellness and Recreation Center
DESCRIPTION:Augustana men's and women's track and field teams will compete in the 11th annual Frigid Bee Opener at St. Ambrose University.\n\nField events\n\n11 a.m. High Jump men followed by women\nEast runway: Triple jump men\, followed by long jump\nNorth runway: Triple jump women\, followed by long jump\nPole vault women followed by men\n11 a.m. Weight throw men followed by women\n1 p.m. Shot put men followed by women\n\nTrack events (women first\, except 60m final)\n\nNoon 60m Dash prelim\n12:20 p.m. 60mhurdles prelim (w/m)\n12:40 p.m. Mile\n1 p.m. 400m dash\n1:20 p.m. 60m dash final\n1:40 p.m. 60m hurdle final (m/w)\n2 p.m. 200m\n2:30 p.m. 800m\n3 p.m. 3000m\n3:30 p.m. 4x400m relay\n\n(Schedule subject to change until all entries have been received.)\n&nbsp\;\n\n&nbsp\;\n
URL;VALUE=URI:https://www.augustana.edu/about-us/events/2021/track--bee-opener
SUMMARY:Track and field: Frigid Bee Opener
DTSTART:20211204T170000Z
END:VEVENT
END:VCALENDAR
